BEGIN:VCALENDAR
VERSION:2.0
PRODID:-//wp-events-plugin.com//7.2.3.1//EN
TZID:Europe/Paris
X-WR-TIMEZONE:Europe/Paris
BEGIN:VEVENT
UID:9@ville-petitbourg.fr
DTSTART;TZID=America/Guadeloupe;VALUE=DATE:20240119
DTEND;TZID=America/Guadeloupe;VALUE=DATE:20240122
DTSTAMP:20240118T130829Z
URL:https://www.ville-petitbourg.fr/events/open-international-dechecs-de-p
 etit-bourg/
SUMMARY:Open International d'échecs de Petit-Bourg
DESCRIPTION:
ATTACH;FMTTYPE=image/jpeg:https://www.ville-petitbourg.fr/wp-content/uploa
 ds/2024/01/affiche-tournoi-echec.jpg
END:VEVENT
BEGIN:VTIMEZONE
TZID:America/Guadeloupe
X-LIC-LOCATION:America/Guadeloupe
BEGIN:STANDARD
DTSTART:20230119T000000
TZOFFSETFROM:-0400
TZOFFSETTO:-0400
TZNAME:AST
END:STANDARD
END:VTIMEZONE
END:VCALENDAR