BEGIN:VCALENDAR
VERSION:2.0
PRODID:-//wp-events-plugin.com//7.2.3.1//EN
TZID:Europe/Paris
X-WR-TIMEZONE:Europe/Paris
BEGIN:VEVENT
UID:45@ville-petitbourg.fr
DTSTART;TZID=America/Guadeloupe:20240427T083000
DTEND;TZID=America/Guadeloupe:20240427T123000
DTSTAMP:20240425T182714Z
URL:https://www.ville-petitbourg.fr/events/olympiades-des-seniors/
SUMMARY:Olympiades des Seniors
DESCRIPTION:Mardi 28 février - 10h30 à 13h		\n			LOISIR - SENIOR		\n		 C
 'est parti pour les Olympiades des séniors avec la Ville de Petit-Bourg 
 L'association TEMPS DANCES SPORTS et la Ville de Petit-Bourginvitent les s
 éniors du territoire à participer nombreux à une matinée sportive qui 
 se déroulera : le samedi 27 avril 2024\, de 8h30 à 12h30\, au Palais de
 s Sports Laura Flessel. Au programme : gym séniors\, fitness\, défis é
 quilibre et mémoire\, salsa\, biguine\, quadrille et plus encore ... 		\
 n																														\n			INFOS PRATIQUES		\n			\n						Tous les
  événements\n					\n		Inscriptions association TEMPS DANCES SPORTSTél. 
 :  0690 56 59 52		\n			
ATTACH;FMTTYPE=image/jpeg:https://www.ville-petitbourg.fr/wp-content/uploa
 ds/2024/04/440186454_837919768380545_2536832546050096497_n.jpg
CATEGORIES:Loisir
END:VEVENT
BEGIN:VTIMEZONE
TZID:America/Guadeloupe
X-LIC-LOCATION:America/Guadeloupe
BEGIN:STANDARD
DTSTART:20230428T083000
TZOFFSETFROM:-0400
TZOFFSETTO:-0400
TZNAME:AST
END:STANDARD
END:VTIMEZONE
END:VCALENDAR