BEGIN:VCALENDAR
VERSION:2.0
PRODID:-//wp-events-plugin.com//7.2.3.1//EN
TZID:Europe/Paris
X-WR-TIMEZONE:Europe/Paris
BEGIN:VEVENT
UID:146@ville-petitbourg.fr
DTSTART;TZID=America/Guadeloupe:20250413T070000
DTEND;TZID=America/Guadeloupe:20250413T113000
DTSTAMP:20250407T153231Z
URL:https://www.ville-petitbourg.fr/events/o-mil-defi/
SUMMARY:O Mil Défi
DESCRIPTION:
ATTACH;FMTTYPE=image/jpeg:https://www.ville-petitbourg.fr/wp-content/uploa
 ds/2025/04/WhatsApp-Image-2025-03-24-at-16.12.29-scaled.jpeg
CATEGORIES:Sport
END:VEVENT
BEGIN:VTIMEZONE
TZID:America/Guadeloupe
X-LIC-LOCATION:America/Guadeloupe
BEGIN:STANDARD
DTSTART:20240413T070000
TZOFFSETFROM:-0400
TZOFFSETTO:-0400
TZNAME:AST
END:STANDARD
END:VTIMEZONE
END:VCALENDAR