BEGIN:VCALENDAR
VERSION:2.0
PRODID:-//wp-events-plugin.com//7.2.3.1//EN
TZID:Europe/Paris
X-WR-TIMEZONE:Europe/Paris
BEGIN:VEVENT
UID:88@ville-petitbourg.fr
DTSTART;TZID=America/Guadeloupe:20241011T000000
DTEND;TZID=America/Guadeloupe:20241026T000000
DTSTAMP:20241018T144313Z
URL:https://www.ville-petitbourg.fr/events/mois-du-creole-lyannaj-an-nou/
SUMMARY:Mois du Créole "Lyannaj An Nou"
DESCRIPTION:Du 11 au 30 octobre 2024 		\n			Culture		\n			Retrouvez le prog
 ramme :		\n																										\n																										\n			INFO
 S PRATIQUES		\n			\n									Tous les événements\n					\n		MairieTél :0
 590 95 38 00		\n			
ATTACH;FMTTYPE=image/jpeg:https://www.ville-petitbourg.fr/wp-content/uploa
 ds/2024/10/462490584_952621406910380_6335110894342747991_n.jpg
CATEGORIES:Histoire
END:VEVENT
BEGIN:VTIMEZONE
TZID:America/Guadeloupe
X-LIC-LOCATION:America/Guadeloupe
BEGIN:STANDARD
DTSTART:20231012T000000
TZOFFSETFROM:-0400
TZOFFSETTO:-0400
TZNAME:AST
END:STANDARD
END:VTIMEZONE
END:VCALENDAR