BEGIN:VCALENDAR
VERSION:2.0
PRODID:-//wp-events-plugin.com//7.2.3.1//EN
TZID:Europe/Paris
X-WR-TIMEZONE:Europe/Paris
BEGIN:VEVENT
UID:44@ville-petitbourg.fr
DTSTART;TZID=America/Guadeloupe:20240428T063000
DTEND;TZID=America/Guadeloupe:20240428T140000
DTSTAMP:20240425T180931Z
URL:https://www.ville-petitbourg.fr/events/matinee-de-la-nature-ocoeur-du-
 parc/
SUMMARY:Matinée de la Nature O'coeur du parc national
DESCRIPTION:Dimanche 28 avril - 6h30 à 14h\nLoisir et sport\nLa Ville de P
 etit-Bourg et l'association O'se O'Sport Ensemble vous invitent à partici
 per nombreux à la 1ere édition de la Matinée Nature au cœur du Parc Na
 tional. TERRE DE JEUX 2024\, il s'agit pour la municipalité de favoriser
  la pratique sportive sur le territoire en invitant le public à découvri
 r les activités sportives et culturelles de pleine Nature. AU COEUR DU P
 ARC NATIONAL DE LA TRAVERSÉE\, il s agit ausside valoriser et mieux conna
 îre le patrimoine naturel petit-bourgeois et de sensibiliser à la néces
 sité de le préserver Au programme : randonnée pédestre\, visites comm
 entées\, etc.. à la Maison de la forêt\, animations\, jeux ludiques et 
 pédagogiques en famille\, à la cascade aux écrevisses...\nRendez-vous :
 \n\n 	le dimanche 28 avril 2024\n 	de 6h30 à 14h00\n 	au Parc national de
  la Guadeloupe\n\n\nINFOS PRATIQUES\n\nTous les événements\n\n\n 	\nO'Sp
 ort Ensemble\ninfos et inscriptions 0690 093 203 ou au 0690 718 896\n\n\nA
 fin de faciliter le stationnement\, des navettes seront disponibles à 6h0
 0 au départ de Colin pour les randonneurs. Et ensuite à partir de 7h30 d
 e Colin\, de la Mairie et de Prise D'eau\n\n
ATTACH;FMTTYPE=image/jpeg:https://www.ville-petitbourg.fr/wp-content/uploa
 ds/2024/04/IMG-20240423-WA0011.jpg
CATEGORIES:Loisir,Sport
END:VEVENT
BEGIN:VTIMEZONE
TZID:America/Guadeloupe
X-LIC-LOCATION:America/Guadeloupe
BEGIN:STANDARD
DTSTART:20230429T063000
TZOFFSETFROM:-0400
TZOFFSETTO:-0400
TZNAME:AST
END:STANDARD
END:VTIMEZONE
END:VCALENDAR