BEGIN:VCALENDAR
VERSION:2.0
PRODID:-//wp-events-plugin.com//7.2.3.1//EN
TZID:Europe/Paris
X-WR-TIMEZONE:Europe/Paris
BEGIN:VEVENT
UID:98@ville-petitbourg.fr
DTSTART;TZID=America/Guadeloupe:20241123T153000
DTEND;TZID=America/Guadeloupe:20241123T173000
DTSTAMP:20241120T162211Z
URL:https://www.ville-petitbourg.fr/events/match-de-gala-entre-arsenal-clu
 b-et-jsvh/
SUMMARY:Match de Régionale 2 entre Arsenal Club et JSVH
DESCRIPTION:Samedi 23 novembre 2024 - à partir de 15h30\nSPORT\n L'Arsenal
  Club vous invite à son match de Régionale 2\, sur la toute nouvelle pel
 ouse synthétique du Stade Municipale Jean NAFFER.  Autour de la rencontr
 e :- Un animateur\,- une tombola\,- un show du groupe Morne Bourg Mass\n\n
 INFOS PRATIQUES\n\nTous les événements\n\n
ATTACH;FMTTYPE=image/jpeg:https://www.ville-petitbourg.fr/wp-content/uploa
 ds/2025/09/Image-intro-par-defaut.jpg
CATEGORIES:Sport
END:VEVENT
BEGIN:VTIMEZONE
TZID:America/Guadeloupe
X-LIC-LOCATION:America/Guadeloupe
BEGIN:STANDARD
DTSTART:20231124T153000
TZOFFSETFROM:-0400
TZOFFSETTO:-0400
TZNAME:AST
END:STANDARD
END:VTIMEZONE
END:VCALENDAR