BEGIN:VCALENDAR
VERSION:2.0
PRODID:-//wp-events-plugin.com//7.2.3.1//EN
TZID:Europe/Paris
X-WR-TIMEZONE:Europe/Paris
BEGIN:VEVENT
UID:121@ville-petitbourg.fr
DTSTART;TZID=America/Guadeloupe;VALUE=DATE:20250214
DTEND;TZID=America/Guadeloupe;VALUE=DATE:20250217
DTSTAMP:20250205T141441Z
URL:https://www.ville-petitbourg.fr/events/les-rondes-vertes-2025/
SUMMARY:Les Rondes Vertes 2025
DESCRIPTION:Du 14 au 16 février 2025				\n		&nbsp\;\nLes Rondes Vertes son
 t bientôt de retour\n&nbsp\;\nL' ACVPB et la Ville de Petit-Bourg vous in
 vitent à la 19ème édition des Rondes Vertes\n&nbsp\;\n Au programme :\n
 \nVendredi 14 février XCC dans le bourg de Petit-Bourg dès 18h\nSamedi 1
 5 février XCO à Pointe-à-Bacchus à partir de 13h30\nDimanche 16 févri
 er notre traditionnel randonnée ouvertes à tous à partir de 7h (marche\
 , VTT\, VTTAE)\n\n&nbsp\;\nINFORMATIONS/ INSCRIPTIONS :\n- Cliquez ici : h
 ttps://www.payasso.fr/association-acvpb/paiement\n- Au magasin Gueppois Sp
 ort : 0590 95 54 90\n- Au magasin HD Vélo : 0590 53 19 85Attention\, insc
 ription jusqu'au 10 février!!!\n&nbsp\;\nEnfilez vos tenues de sport\, on
  vous attend nombreux !\n&nbsp\;		\n																														\n						
 																								\n					INFOS PRATIQUES				\n					\n									Tous l
 es événements\n					\n		Mairie : 0590 95 38 00: contact@ville-petitbour
 g.fr		\n			
ATTACH;FMTTYPE=image/jpeg:https://www.ville-petitbourg.fr/wp-content/uploa
 ds/2025/01/Image-mise-en-avant-site-web-18.png
CATEGORIES:Sport
END:VEVENT
BEGIN:VTIMEZONE
TZID:America/Guadeloupe
X-LIC-LOCATION:America/Guadeloupe
BEGIN:STANDARD
DTSTART:20240215T000000
TZOFFSETFROM:-0400
TZOFFSETTO:-0400
TZNAME:AST
END:STANDARD
END:VTIMEZONE
END:VCALENDAR