BEGIN:VCALENDAR
VERSION:2.0
PRODID:-//wp-events-plugin.com//7.2.3.1//EN
TZID:Europe/Paris
X-WR-TIMEZONE:Europe/Paris
BEGIN:VEVENT
UID:103@ville-petitbourg.fr
DTSTART;TZID=America/Guadeloupe:20241226T000000
DTEND;TZID=America/Guadeloupe:20241226T000000
DTSTAMP:20241213T124011Z
URL:https://www.ville-petitbourg.fr/events/les-rendez-vous-des-fetes-o-tib
 ou-decembre-2024/
SUMMARY:Les rendez-vous des fêtes "O TIBOU" décembre 2024
DESCRIPTION:Du 3 au 25 décembre 2024\nLire plus de publications sur Calam
 éo\n\nCliquez ici\n\n\nINFOS PRATIQUES\n\nTous les événements\n\n\n 	co
 ntact.ville@ville-petitbourg.fr\n\nMairie\nTél : 0590 95 38 00\n\n
ATTACH;FMTTYPE=image/jpeg:https://www.ville-petitbourg.fr/wp-content/uploa
 ds/2024/12/Image-mise-en-avant-site-web-9.png
CATEGORIES:Loisir
END:VEVENT
BEGIN:VTIMEZONE
TZID:America/Guadeloupe
X-LIC-LOCATION:America/Guadeloupe
BEGIN:STANDARD
DTSTART:20231227T000000
TZOFFSETFROM:-0400
TZOFFSETTO:-0400
TZNAME:AST
END:STANDARD
END:VTIMEZONE
END:VCALENDAR