BEGIN:VCALENDAR
VERSION:2.0
PRODID:-//wp-events-plugin.com//7.2.3.1//EN
TZID:Europe/Paris
X-WR-TIMEZONE:Europe/Paris
BEGIN:VEVENT
UID:172@ville-petitbourg.fr
DTSTART;TZID=America/Guadeloupe:20251013T000000
DTEND;TZID=America/Guadeloupe:20251017T000000
DTSTAMP:20251009T172410Z
URL:https://www.ville-petitbourg.fr/events/les-ateliers-bienvenue-a-la-ret
 raite-arrive-a-petit-bourg/
SUMMARY:Les Ateliers Bienvenue à la retraite arrive à Petit-Bourg
DESCRIPTION:Du lundi 13 au vendredi 17 octobre				\n					SOCIAL				\n		Vous
  êtes futur·e ou jeune retraité·e ? Participez à une semaine d’at
 eliers pour bien préparer et vivre pleinement votre retraite !Du 13 au 17
  octobre 2025\, Rendez-vous à la Maison France Services du Bourg – (40 
 Rue Schoelcher\, Petit-Bourg)Au programme : 5 séances pour s’informer
 \, échanger et anticiper cette nouvelle étape de vie.  Pensez à ven
 ir avec vos identifiants :* Ameli* Assurance Retraite* Mon Espace Santé
 📞 Inscriptions obligatoires au 0590 85 15 00  ⚠️ Places limitées
  à 15 participants !		\n																														\n					INFOS PRATIQ
 UES				\n					\n									Tous les événements\n					\n		Un événement or
 ganisé en partenariat avec :  Mutualité Française Guadeloupe\, Sécur
 ité Sociale de la Guadeloupe\, France Services\, L’Assurance Retraite e
 t la Ville de Petit-Bourg.		\n			
ATTACH;FMTTYPE=image/jpeg:https://www.ville-petitbourg.fr/wp-content/uploa
 ds/2025/10/WhatsApp-Image-2025-10-09-at-10.52.42.jpeg
CATEGORIES:Citoyenneté
END:VEVENT
BEGIN:VTIMEZONE
TZID:America/Guadeloupe
X-LIC-LOCATION:America/Guadeloupe
BEGIN:STANDARD
DTSTART:20241013T000000
TZOFFSETFROM:-0400
TZOFFSETTO:-0400
TZNAME:AST
END:STANDARD
END:VTIMEZONE
END:VCALENDAR