BEGIN:VCALENDAR
VERSION:2.0
PRODID:-//wp-events-plugin.com//7.2.3.1//EN
TZID:Europe/Paris
X-WR-TIMEZONE:Europe/Paris
BEGIN:VEVENT
UID:187@ville-petitbourg.fr
DTSTART;TZID=America/Guadeloupe:20260208T063000
DTEND;TZID=America/Guadeloupe:20260208T170000
DTSTAMP:20260115T165625Z
URL:https://www.ville-petitbourg.fr/events/les-20-ans-des-rondes-vertes/
SUMMARY:Les Rondes Vertes : 20 ans d'existence
DESCRIPTION:Dimanche 08 février 2026 - 6h30				\n		L'ACVPB et la Ville de 
 Petit-Bourg vous invitent aux 20 ans des Rondes Vertes.  -  Le dimanche
  08 janvier 2026\,-  Dès 6h30\,-  Au parking du Centre Commercial de Be
 llevue\, Petit-Bourg		\n					INFOS PRATIQUES				\n					\n									Tous les
  événements\n					\n		contact.ville@ville-petitbourg.frMairieTél : 0590
  95 38 00		\n			
ATTACH;FMTTYPE=image/jpeg:https://www.ville-petitbourg.fr/wp-content/uploa
 ds/2026/01/Image-mise-en-avant-site-web-application-9.png
CATEGORIES:Sport
END:VEVENT
BEGIN:VTIMEZONE
TZID:America/Guadeloupe
X-LIC-LOCATION:America/Guadeloupe
BEGIN:STANDARD
DTSTART:20250208T063000
TZOFFSETFROM:-0400
TZOFFSETTO:-0400
TZNAME:AST
END:STANDARD
END:VTIMEZONE
END:VCALENDAR