BEGIN:VCALENDAR
VERSION:2.0
PRODID:-//wp-events-plugin.com//7.2.3.1//EN
TZID:Europe/Paris
X-WR-TIMEZONE:Europe/Paris
BEGIN:VEVENT
UID:49@ville-petitbourg.fr
DTSTART;TZID=America/Guadeloupe:20240504T063000
DTEND;TZID=America/Guadeloupe:20240504T100000
DTSTAMP:20240502T145622Z
URL:https://www.ville-petitbourg.fr/events/le-parcours-du-coeur-edition-20
 24/
SUMMARY:Le Parcours du Cœur édition 2024
DESCRIPTION:Samedi 04 Mai - 06h30		\n			SPORT - SOLIDARITE		\n		Dans le cad
 re de la politique nationale de prévention des maladies cardiovasculaires
 \, le Maire de la Ville de Petit-Bourg\, Monsieur David NEBOR\, vous invit
 e à participer nombreux à la "Marche du cœur" organisée par le Centre 
 Communal d'Action Sociale le samedi 04 Mai 2024\, départ à 06h30 à Tamb
 our\, Petit-Bourg.Les participants sont priés de se munir d’un t-shirt 
 blanc\, de chaussures adaptées et d'une bouteille d'eau.La participation 
 est de 2€\, en faveur de la Fédération Française de Cardiologie. 		
 \n																										\n			INFOS PRATIQUES		\n			\n									Tous les
  événements\n					\n		Pour plus d’informations et inscription:Veuillez
  contacter le CCAS au 0590 95 36 06.		\n			
ATTACH;FMTTYPE=image/jpeg:https://www.ville-petitbourg.fr/wp-content/uploa
 ds/2024/05/marche-du-coeur-20241.png
CATEGORIES:Sport
END:VEVENT
BEGIN:VTIMEZONE
TZID:America/Guadeloupe
X-LIC-LOCATION:America/Guadeloupe
BEGIN:STANDARD
DTSTART:20230505T063000
TZOFFSETFROM:-0400
TZOFFSETTO:-0400
TZNAME:AST
END:STANDARD
END:VTIMEZONE
END:VCALENDAR