BEGIN:VCALENDAR
VERSION:2.0
PRODID:-//wp-events-plugin.com//7.2.3.1//EN
TZID:Europe/Paris
X-WR-TIMEZONE:Europe/Paris
BEGIN:VEVENT
UID:102@ville-petitbourg.fr
DTSTART;TZID=America/Guadeloupe:20241227T180000
DTEND;TZID=America/Guadeloupe:20241227T203000
DTSTAMP:20241217T144912Z
URL:https://www.ville-petitbourg.fr/events/le-parcours-de-visibilite-des-a
 rtistes/
SUMMARY:Le parcours de visibilité des artistes
DESCRIPTION:Du vendredi 13 au 27 décembre 2024\nLe Maire de la Ville de Pe
 tit-Bourg\, Monsieur David NEBOR\, le Conseil municipal et l'Association C
 ORPO ART' L'ART D'AIDER vous invitent :\n\n- Au vernissage le vendredi 13 
 décembre \n- A 18h\n- Au Centre Culturel et Multimédia de la Lézarde\n
 \nINFOS PRATIQUES\n\nTous les événements\n\n\n 	contact.ville@ville-peti
 tbourg.fr\n\nMairie\nTél : 0590 95 38 00\n\n
ATTACH;FMTTYPE=image/jpeg:https://www.ville-petitbourg.fr/wp-content/uploa
 ds/2024/12/Image-mise-en-avant-site-web-8.png
CATEGORIES:Art
END:VEVENT
BEGIN:VTIMEZONE
TZID:America/Guadeloupe
X-LIC-LOCATION:America/Guadeloupe
BEGIN:STANDARD
DTSTART:20231228T180000
TZOFFSETFROM:-0400
TZOFFSETTO:-0400
TZNAME:AST
END:STANDARD
END:VTIMEZONE
END:VCALENDAR