BEGIN:VCALENDAR
VERSION:2.0
PRODID:-//wp-events-plugin.com//7.2.3.1//EN
TZID:Europe/Paris
X-WR-TIMEZONE:Europe/Paris
BEGIN:VEVENT
UID:138@ville-petitbourg.fr
DTSTART;TZID=America/Guadeloupe:20250327T170000
DTEND;TZID=America/Guadeloupe:20250327T220000
DTSTAMP:20250325T155540Z
URL:https://www.ville-petitbourg.fr/events/le-grand-char-de-mbm/
SUMMARY:Le Grand Char de MBM
DESCRIPTION:
ATTACH;FMTTYPE=image/jpeg:https://www.ville-petitbourg.fr/wp-content/uploa
 ds/2025/03/WhatsApp-Image-2025-03-18-at-18.54.32-scaled.jpeg
CATEGORIES:Loisir
END:VEVENT
BEGIN:VTIMEZONE
TZID:America/Guadeloupe
X-LIC-LOCATION:America/Guadeloupe
BEGIN:STANDARD
DTSTART:20240327T170000
TZOFFSETFROM:-0400
TZOFFSETTO:-0400
TZNAME:AST
END:STANDARD
END:VTIMEZONE
END:VCALENDAR