BEGIN:VCALENDAR
VERSION:2.0
PRODID:-//wp-events-plugin.com//7.2.3.1//EN
TZID:Europe/Paris
X-WR-TIMEZONE:Europe/Paris
BEGIN:VEVENT
UID:94@ville-petitbourg.fr
DTSTART;TZID=America/Guadeloupe:20241103T100000
DTEND;TZID=America/Guadeloupe:20241103T190000
DTSTAMP:20241029T171944Z
URL:https://www.ville-petitbourg.fr/events/le-games-legends-festival/
SUMMARY:Le Games LEGENDS FESTIVAL
DESCRIPTION:dimanche 3 novembre - 10 h  à 19 h		\n			LOISIR -SPORT		\n		La
  Ville de Petit-Bourg et Gigagames Guadeloupe vous présentent le Games LE
 GENDS FESTIVAL : - Le Dimanche 03 Novembre\,- de 10h à 19h\,- au Palais
  des Sports Laura FLESSEL. Plongez au cœur de vos souvenirs d'enfance \,
  plus de 200 jeux\, consoles\, animés\, séries\, des années 80\, 90 et 
 2000. Participez au plus grand Tournoi WARZONE et Call of Mobile jamais c
 onçus en Guadeloupe avec 1 400 € cash prizes et de nombreux cadeaux. B
 illetterie en ligne : https://kiwol.co/hsve3		\n																										
 \n			INFOS PRATIQUES		\n			\n									Tous les événements\n					\n			
ATTACH;FMTTYPE=image/jpeg:https://www.ville-petitbourg.fr/wp-content/uploa
 ds/2024/10/D7_-Le-Games-LEGENDS-FESTIVAL-by-GigaGames.jpg
CATEGORIES:Loisir,Sport
END:VEVENT
BEGIN:VTIMEZONE
TZID:America/Guadeloupe
X-LIC-LOCATION:America/Guadeloupe
BEGIN:STANDARD
DTSTART:20231104T100000
TZOFFSETFROM:-0400
TZOFFSETTO:-0400
TZNAME:AST
END:STANDARD
END:VTIMEZONE
END:VCALENDAR