BEGIN:VCALENDAR
VERSION:2.0
PRODID:-//wp-events-plugin.com//7.2.3.1//EN
TZID:Europe/Paris
X-WR-TIMEZONE:Europe/Paris
BEGIN:VEVENT
UID:12@ville-petitbourg.fr
DTSTART;TZID=America/Guadeloupe:20240125T090000
DTEND;TZID=America/Guadeloupe:20240125T110000
DTSTAMP:20240122T162233Z
URL:https://www.ville-petitbourg.fr/events/le-digitour-a-petit-bourg/
SUMMARY:Le Digi'Tour à Petit-Bourg
DESCRIPTION:\nLa CCI des Îles de Guadeloupe et la Ville de Petit-Bourg vou
 s invitent à leur Digi’Tour. Participez à cette réunion d’informati
 on sur les opportunités et les menaces du digital pour votre entreprise !
 \n\n\nRendez-vous :\n-  le jeudi 25 janvier 2024\n-  de 09h à 11h\n-  au 
 Complexe sportif Gaël MONFILS Zac de Colin\n\n\n\nInscription  https://bi
 t.ly/424VzZm\n\n\n\nDans cette édition nous verrons :\n Le digital est-il
  correctement exploité au sein de mon entreprise ?\n Les habitudes de con
 sommation de mes clients/clients de mon entreprise sont-elles mises à pro
 fit ?\n Comment développer mon chiffre d’affaires grâce au digital ?\n
  Comment financer ma transition digitale ?\nEn fin d’évènement\, vous 
 pourrez vous initier à l’utilisation de l’intelligence artificielle e
 t effectuer votre demande de chèques TIC grâce à la présence du CYBERB
 US de la Région Guadeloupe.\n\n\n\n ATTENTION : Nombre de places limité 
 !\n
ATTACH;FMTTYPE=image/jpeg:https://www.ville-petitbourg.fr/wp-content/uploa
 ds/2024/01/digi-tour.jpg
END:VEVENT
BEGIN:VTIMEZONE
TZID:America/Guadeloupe
X-LIC-LOCATION:America/Guadeloupe
BEGIN:STANDARD
DTSTART:20230125T090000
TZOFFSETFROM:-0400
TZOFFSETTO:-0400
TZNAME:AST
END:STANDARD
END:VTIMEZONE
END:VCALENDAR