BEGIN:VCALENDAR
VERSION:2.0
PRODID:-//wp-events-plugin.com//7.2.3.1//EN
TZID:Europe/Paris
X-WR-TIMEZONE:Europe/Paris
BEGIN:VEVENT
UID:16@ville-petitbourg.fr
DTSTART;TZID=America/Guadeloupe:20240217T150000
DTEND;TZID=America/Guadeloupe:20240217T164500
DTSTAMP:20240201T125811Z
URL:https://www.ville-petitbourg.fr/events/la-course-des-ti-ultra/
SUMMARY:La course des TI ULTRA
DESCRIPTION:Venez vous dépenser tout en vous amusant ! Avec le programme s
 portif qui accompagne cette évènement Ultra Trace entièrement GRATUIT p
 our le public.\n\nRetrouvez nous pour la course des TI ULTRA le samedi 17 
 février à 15h au Complexe Sportif Gaël Monfils!
ATTACH;FMTTYPE=image/jpeg:https://www.ville-petitbourg.fr/wp-content/uploa
 ds/2024/02/activite-ti-ultra.jpeg
LOCATION:Complexe Sportif Gaël Monfils\, Zac de Colin\, Petit-Bourg\, Guad
 eloupe
GEO:16.191723;-61.590748
X-APPLE-STRUCTURED-LOCATION;VALUE=URI;X-ADDRESS=Zac de Colin\, Petit-Bourg\
 , Guadeloupe;X-APPLE-RADIUS=100;X-TITLE=Complexe Sportif Gaël Monfils:geo
 :16.191723,-61.590748
END:VEVENT
BEGIN:VTIMEZONE
TZID:America/Guadeloupe
X-LIC-LOCATION:America/Guadeloupe
BEGIN:STANDARD
DTSTART:20230217T150000
TZOFFSETFROM:-0400
TZOFFSETTO:-0400
TZNAME:AST
END:STANDARD
END:VTIMEZONE
END:VCALENDAR