BEGIN:VCALENDAR
VERSION:2.0
PRODID:-//wp-events-plugin.com//7.2.3.1//EN
TZID:Europe/Paris
X-WR-TIMEZONE:Europe/Paris
BEGIN:VEVENT
UID:132@ville-petitbourg.fr
DTSTART;TZID=America/Guadeloupe:20250321T083000
DTEND;TZID=America/Guadeloupe:20250321T130000
DTSTAMP:20250317T144609Z
URL:https://www.ville-petitbourg.fr/events/la-caravane-des-droits/
SUMMARY:LA CARAVANE DES DROITS
DESCRIPTION:Vendredi 21 mars 2025 - 8h30 à 13h				\n		La Caravane des Droi
 ts arrive à Petit-Bourg !Le Maire David NEBOR vous invite à participer 
 à cet événement incontournable   vendredi 21 mars 2025   dès 8h30
   sur la place Dominique LARIFLA. 30 institutions et associations mobili
 sées pour vous informer et vous aider.Des conseillers à votre écoute po
 ur répondre à vos questions administratives en direct.Présence de la CA
 F\, CGSS\, MSA\, France Travail\, MDPH et bien d’autres !Ne manquez pas 
 cette opportunité !		\n																														\n					INFOS PRATIQU
 ES				\n					\n									Tous les événements\n					\n		Mairie : 0590 95 
 38 00: contact@ville-petitbourg.fr		\n			
ATTACH;FMTTYPE=image/jpeg:https://www.ville-petitbourg.fr/wp-content/uploa
 ds/2025/03/Image-mise-en-avant-site-web-33.png
CATEGORIES:Citoyenneté
END:VEVENT
BEGIN:VTIMEZONE
TZID:America/Guadeloupe
X-LIC-LOCATION:America/Guadeloupe
BEGIN:STANDARD
DTSTART:20240321T083000
TZOFFSETFROM:-0400
TZOFFSETTO:-0400
TZNAME:AST
END:STANDARD
END:VTIMEZONE
END:VCALENDAR