BEGIN:VCALENDAR
VERSION:2.0
PRODID:-//wp-events-plugin.com//7.2.3.1//EN
TZID:Europe/Paris
X-WR-TIMEZONE:Europe/Paris
BEGIN:VEVENT
UID:95@ville-petitbourg.fr
DTSTART;TZID=America/Guadeloupe:20241116T180000
DTEND;TZID=America/Guadeloupe:20241116T234500
DTSTAMP:20241031T162009Z
URL:https://www.ville-petitbourg.fr/events/kombat-taekwondo-carribean-open
 /
SUMMARY:"Kombat Taekwondo" : Caribbean Open
DESCRIPTION:Samedi 16 novembre - 18H\nSPORT\nLa Ville de Petit-Bourg vous i
 nvite à l'évènement sportif "Kombat Taekwondo : Caribbean Open"\n\n-  
 Le samedi 16 novembre 2024\,\n-  Dès 18h\,\n-  Au Palais des sports Lau
 ra FLESSEL.\n \nUne évènement à ne pas manquer\, c'est la première fo
 is qu'une compétition internationale de cette envergure se déroulera en 
 Guadeloupe.\n\n\nINFOS PRATIQUES\n\nTous les événements\n\n
ATTACH;FMTTYPE=image/jpeg:https://www.ville-petitbourg.fr/wp-content/uploa
 ds/2024/10/WhatsApp-Image-2024-10-28-at-12.24.03.jpeg
CATEGORIES:Sport
END:VEVENT
BEGIN:VTIMEZONE
TZID:America/Guadeloupe
X-LIC-LOCATION:America/Guadeloupe
BEGIN:STANDARD
DTSTART:20231117T180000
TZOFFSETFROM:-0400
TZOFFSETTO:-0400
TZNAME:AST
END:STANDARD
END:VTIMEZONE
END:VCALENDAR