BEGIN:VCALENDAR
VERSION:2.0
PRODID:-//wp-events-plugin.com//7.2.3.1//EN
TZID:Europe/Paris
X-WR-TIMEZONE:Europe/Paris
BEGIN:VEVENT
UID:144@ville-petitbourg.fr
DTSTART;TZID=Europe/Paris:20250412T090000
DTEND;TZID=Europe/Paris:20250412T120000
DTSTAMP:20250331T145043Z
URL:https://www.ville-petitbourg.fr/events/kermesse-de-lassociation-gymnas
 ticlub/
SUMMARY:Kermesse de l'association Gymnasticlub
DESCRIPTION:
ATTACH;FMTTYPE=image/jpeg:https://www.ville-petitbourg.fr/wp-content/uploa
 ds/2025/03/WhatsApp-Image-2025-03-31-at-08.31.44.jpeg
CATEGORIES:Loisir
END:VEVENT
BEGIN:VTIMEZONE
TZID:Europe/Paris
X-LIC-LOCATION:Europe/Paris
BEGIN:DAYLIGHT
DTSTART:20250330T030000
TZOFFSETFROM:+0100
TZOFFSETTO:+0200
TZNAME:CEST
END:DAYLIGHT
END:VTIMEZONE
END:VCALENDAR