BEGIN:VCALENDAR
VERSION:2.0
PRODID:-//wp-events-plugin.com//7.2.3.1//EN
TZID:Europe/Paris
X-WR-TIMEZONE:Europe/Paris
BEGIN:VEVENT
UID:87@ville-petitbourg.fr
DTSTART;TZID=America/Guadeloupe:20241007T000000
DTEND;TZID=America/Guadeloupe:20241019T000000
DTSTAMP:20241003T175152Z
URL:https://www.ville-petitbourg.fr/events/journees-portes-ouvertes-des-ma
 isons-france-services/
SUMMARY:Journées portes ouvertes France Services
DESCRIPTION:/*! elementor - v3.21.0 - 30-04-2024 */\n.elementor-heading-tit
 le{padding:0\;margin:0\;line-height:1}.elementor-widget-heading .elementor
 -heading-title[class*=elementor-size-]>a{color:inherit\;font-size:inherit\
 ;line-height:inherit}.elementor-widget-heading .elementor-heading-title.el
 ementor-size-small{font-size:15px}.elementor-widget-heading .elementor-hea
 ding-title.elementor-size-medium{font-size:19px}.elementor-widget-heading 
 .elementor-heading-title.elementor-size-large{font-size:29px}.elementor-wi
 dget-heading .elementor-heading-title.elementor-size-xl{font-size:39px}.el
 ementor-widget-heading .elementor-heading-title.elementor-size-xxl{font-si
 ze:59px}Du 7 au 19 octobre 2024		\n			Citoyenneté		\n			Retrouvez les pro
 grammes :		\n			/*! elementor - v3.21.0 - 30-04-2024 */\n.elementor-widget
 -image{text-align:center}.elementor-widget-image a{display:inline-block}.e
 lementor-widget-image a img[src$=".svg"]{width:48px}.elementor-widget-imag
 e img{vertical-align:middle\;display:inline-block}																							\
 n																										\n			INFOS PRATIQUES		\n			\n									Tous les 
 événements\n					\n		Le vendredi 22 mars 2024Dès 18h\,A l’arboretum d
 e Montebello Petit-Bourg.MairieTél :06 68 85 12 83		\n			/*! elementor - 
 v3.21.0 - 30-04-2024 */\n.elementor-widget-google_maps .elementor-widget-c
 ontainer{overflow:hidden}.elementor-widget-google_maps .elementor-custom-e
 mbed{line-height:0}.elementor-widget-google_maps iframe{height:300px}		\n	
 		
ATTACH;FMTTYPE=image/jpeg:https://www.ville-petitbourg.fr/wp-content/uploa
 ds/2024/10/Image-mise-en-avant-site-web-2.png
CATEGORIES:Citoyenneté
END:VEVENT
BEGIN:VTIMEZONE
TZID:America/Guadeloupe
X-LIC-LOCATION:America/Guadeloupe
BEGIN:STANDARD
DTSTART:20231008T000000
TZOFFSETFROM:-0400
TZOFFSETTO:-0400
TZNAME:AST
END:STANDARD
END:VTIMEZONE
END:VCALENDAR