BEGIN:VCALENDAR
VERSION:2.0
PRODID:-//wp-events-plugin.com//7.2.3.1//EN
TZID:Europe/Paris
X-WR-TIMEZONE:Europe/Paris
BEGIN:VEVENT
UID:81@ville-petitbourg.fr
DTSTART;TZID=America/Guadeloupe;VALUE=DATE:20240920
DTEND;TZID=America/Guadeloupe;VALUE=DATE:20240923
DTSTAMP:20240912T163032Z
URL:https://www.ville-petitbourg.fr/events/journees-europeennes-du-patrimo
 ine-2024/
SUMMARY:Journées européennes du patrimoine 2024
DESCRIPTION:Du vendredi 20 au dimanche 22 septembre 		\n			PATRIMOINE		\n		
 La Ville de Petit-Bourg est heureuse d’annoncer sa participation aux Jou
 rnées Européennes du Patrimoine\, qui se dérouleront du 20 au 22 septem
 bre 2024 au service des Archives de la Ville et sur la Place Dominique LAR
 IFLA. Cet événement patrimonial incontournable\, qui s’inscrit dans un
 e initiative européenne est placé sous le thème : « Les archives\, un 
 monde à découvrir : la Généalogie ».Au programme- Visites guidées de
 s archives de la ville- Expositions thématiques- Ateliers pédagogiques- 
 Rencontres et conférences- Rallye culturelPour en savoir plus : CLIQUEZ I
 CI		\n														\n															\n			INFOS PRATIQUES		\n			\n								
 	Tous les événements\n					\n		Service archives :Tél. : 0590 69 67 8016
  Rue du cimetièreBlonde97170 Petit-Bourgservice.archive@ville-petitbourg.
 fr		\n			
ATTACH;FMTTYPE=image/jpeg:https://www.ville-petitbourg.fr/wp-content/uploa
 ds/2024/09/Image-mise-en-avant-site-web-1.png
CATEGORIES:Art,Histoire
END:VEVENT
BEGIN:VTIMEZONE
TZID:America/Guadeloupe
X-LIC-LOCATION:America/Guadeloupe
BEGIN:STANDARD
DTSTART:20230921T000000
TZOFFSETFROM:-0400
TZOFFSETTO:-0400
TZNAME:AST
END:STANDARD
END:VTIMEZONE
END:VCALENDAR