BEGIN:VCALENDAR
VERSION:2.0
PRODID:-//wp-events-plugin.com//7.2.3.1//EN
TZID:Europe/Paris
X-WR-TIMEZONE:Europe/Paris
BEGIN:VEVENT
UID:124@ville-petitbourg.fr
DTSTART;TZID=America/Guadeloupe:20250208T090000
DTEND;TZID=America/Guadeloupe:20250208T170000
DTSTAMP:20250207T134657Z
URL:https://www.ville-petitbourg.fr/events/journee-porte-ouverte-a-la-dech
 etterie-de-roujol/
SUMMARY:Journée Porte Ouverte à la Déchetterie de Roujol
DESCRIPTION:Lundi 29 avril 2024 - 18h				\n		Le Maire de la Ville de Petit-
 Bourg\, Monsieur David NEBOR\, informe ses administrés de la tenue d'une 
 journée porte ouverte à la Déchetterie de Roujol. -  Le samedi 8 fév
 rier 2025\,-  De 9h à 17h\,-  À Roujol\, l'entrée près de l'Agence F
 rance Travail (anciennement Pôle Emploi). 		\n					INFOS PRATIQUES				\n
 					\n									Tous les événements\n					\n		Mairie : 0590 95 38 00: c
 ontact@ville-petitbourg.fr		\n			
ATTACH;FMTTYPE=image/jpeg:https://www.ville-petitbourg.fr/wp-content/uploa
 ds/2025/02/Image-mise-en-avant-site-web-22.png
END:VEVENT
BEGIN:VTIMEZONE
TZID:America/Guadeloupe
X-LIC-LOCATION:America/Guadeloupe
BEGIN:STANDARD
DTSTART:20240209T090000
TZOFFSETFROM:-0400
TZOFFSETTO:-0400
TZNAME:AST
END:STANDARD
END:VTIMEZONE
END:VCALENDAR