BEGIN:VCALENDAR
VERSION:2.0
PRODID:-//wp-events-plugin.com//7.2.3.1//EN
TZID:Europe/Paris
X-WR-TIMEZONE:Europe/Paris
BEGIN:VEVENT
UID:29@ville-petitbourg.fr
DTSTART;TZID=America/Guadeloupe:20240322T180000
DTEND;TZID=America/Guadeloupe:20240322T220000
DTSTAMP:20240320T100838Z
URL:https://www.ville-petitbourg.fr/events/journee-internationale-des-fore
 ts-edition-2024-a-petit-bourg/
SUMMARY:Journée Internationale des Forêts édition 2024 à Petit-Bourg
DESCRIPTION:Vendredi 22 mars 2024 à 18h00		\n			ANIMATION		\n		Initiée pa
 r l’ONU\, la Journée internationale des Forêts est célébrée chaque 
 année le 21 mars pour valoriser la forêt\, l’arbre et le bois. Pour c
 ette édition 2024\, l’ONF Guadeloupe vous donne rendez-vous :Le vendred
 i 22 mars 2024\,Dès 18h\,A l’arboretum de Montebello Petit-Bourg.Au pro
 gramme\, une projection en plein air du film « EPIC : la Bataille du Roya
 ume Secret » puis récits de contes et légendes issus de la forêt guade
 loupéenne avec Benjamin Moïse dit « BENZO » conteur traditionnel. (Pr
 évoir de quoi s’asseoir) Renseignements au 0690 00 87 42. 		\n							
 																							\n			INFOS PRATIQUES		\n			\n						Tous les événe
 ments\n					\n		Le vendredi 22 mars 2024Dès 18h\,A l’arboretum de Monte
 bello Petit-Bourg.MairieTél :06 68 85 12 83		\n			
ATTACH;FMTTYPE=image/jpeg:https://www.ville-petitbourg.fr/wp-content/uploa
 ds/2024/03/Cinema-anba-bwa.png
LOCATION:Arboretum de Montebello\, Montebello\, Petit-Bourg\, 97170\, Guade
 loupe
GEO:16.175157;-61.59551
X-APPLE-STRUCTURED-LOCATION;VALUE=URI;X-ADDRESS=Montebello\, Petit-Bourg\, 
 97170\, Guadeloupe;X-APPLE-RADIUS=100;X-TITLE=Arboretum de Montebello:geo:
 16.175157,-61.59551
END:VEVENT
BEGIN:VTIMEZONE
TZID:America/Guadeloupe
X-LIC-LOCATION:America/Guadeloupe
BEGIN:STANDARD
DTSTART:20230323T180000
TZOFFSETFROM:-0400
TZOFFSETTO:-0400
TZNAME:AST
END:STANDARD
END:VTIMEZONE
END:VCALENDAR