BEGIN:VCALENDAR
VERSION:2.0
PRODID:-//wp-events-plugin.com//7.2.3.1//EN
TZID:Europe/Paris
X-WR-TIMEZONE:Europe/Paris
BEGIN:VEVENT
UID:118@ville-petitbourg.fr
DTSTART;TZID=America/Guadeloupe:20250117T000000
DTEND;TZID=America/Guadeloupe:20250120T000000
DTSTAMP:20250117T164746Z
URL:https://www.ville-petitbourg.fr/events/journee-decouverte-reportee/
SUMMARY:Journée Découverte (reportée)
DESCRIPTION:
ATTACH;FMTTYPE=image/jpeg:https://www.ville-petitbourg.fr/wp-content/uploa
 ds/2025/01/WhatsApp-Image-2025-01-17-at-12.01.51.jpeg
END:VEVENT
BEGIN:VTIMEZONE
TZID:America/Guadeloupe
X-LIC-LOCATION:America/Guadeloupe
BEGIN:STANDARD
DTSTART:20240118T000000
TZOFFSETFROM:-0400
TZOFFSETTO:-0400
TZNAME:AST
END:STANDARD
END:VTIMEZONE
END:VCALENDAR