BEGIN:VCALENDAR
VERSION:2.0
PRODID:-//wp-events-plugin.com//7.2.3.1//EN
TZID:Europe/Paris
X-WR-TIMEZONE:Europe/Paris
BEGIN:VEVENT
UID:38@ville-petitbourg.fr
DTSTART;TZID=America/Guadeloupe:20240419T090000
DTEND;TZID=America/Guadeloupe:20240419T160000
DTSTAMP:20240417T164513Z
URL:https://www.ville-petitbourg.fr/events/journee-de-sensibilisation-a-la
 utisme/
SUMMARY:Journée de sensibilisation à l'Autisme
DESCRIPTION:Vendredi 19 avril - 9h à 16h		\n			Sensibilisation		\n		 La Vi
 lle de Petit-Bourg en collaboration avec l’association "J’existe" vous
  invite à la journée de sensibilisation à l’Autisme qui se déroulera
  :-  Le vendredi 19 avril 2024\,-  Dès 9h\,-  Au complexe sportif Gaë
 l MONFILS de Colin\, Petit-Bourg.  Au programme de cette journée : Inter
 ventions\, conférences\, Stands avec les partenaires : L'association Phyt
 o Victimes\, EDUCAKAZ association pour la prise en charge des personnes de
  + de 40 ans\, le CRA...\, stand traiteur\, Animation Musicale\, jeux et p
 lus encore.  		\n																														\n			INFOS PRATIQUES		\n	
 		\n						Tous les événements\n					\n		Le vendredi 19 avril 2024Dès 9h
 \,Au complexe sportif de Gaël MONFILS.MairieTél : 0590 95 38 00		\n			
ATTACH;FMTTYPE=image/jpeg:https://www.ville-petitbourg.fr/wp-content/uploa
 ds/2024/04/be416627-6359-4ed6-b0da-1fd6438e6562.jpeg
CATEGORIES:Citoyenneté
END:VEVENT
BEGIN:VTIMEZONE
TZID:America/Guadeloupe
X-LIC-LOCATION:America/Guadeloupe
BEGIN:STANDARD
DTSTART:20230420T090000
TZOFFSETFROM:-0400
TZOFFSETTO:-0400
TZNAME:AST
END:STANDARD
END:VTIMEZONE
END:VCALENDAR