BEGIN:VCALENDAR
VERSION:2.0
PRODID:-//wp-events-plugin.com//7.2.3.1//EN
TZID:Europe/Paris
X-WR-TIMEZONE:Europe/Paris
BEGIN:VEVENT
UID:92@ville-petitbourg.fr
DTSTART;TZID=America/Guadeloupe:20241019T150000
DTEND;TZID=America/Guadeloupe:20241019T180000
DTSTAMP:20241018T143700Z
URL:https://www.ville-petitbourg.fr/events/initiation-collective-a-la-boxe
 /
SUMMARY:Initiation collective à la boxe
DESCRIPTION:Samedi 19 octobre 2024 - 15h à 18h		\n			SPORT		\n		 Le Tibou 
 Boxing Club vous invite à venir mettre un crochet contre le cancer\, de 1
 5h à 18h\, au Complexe sportif Gaël Monfils.  Au programme de cet apr
 ès-midi :Initiation collective à la boxeDécouverte de la socaboxeCet é
 vènement est accessible à tous\, sous condition de verser une participat
 ion de 2€\, dont 1€ reversé pour la lutte contre le cancer.Vous souha
 itez vous inscrire ? Scannez le QR code !		\n																										\n	
 		INFOS PRATIQUES		\n			\n									Tous les événements\n					\n		C'est l
 e mois du créole à Petit-Bourg\, du 11 au 30 octobre 2024		\n			
ATTACH;FMTTYPE=image/jpeg:https://www.ville-petitbourg.fr/wp-content/uploa
 ds/2024/10/Image-mise-en-avant-site-web-4.png
CATEGORIES:Sport
END:VEVENT
BEGIN:VTIMEZONE
TZID:America/Guadeloupe
X-LIC-LOCATION:America/Guadeloupe
BEGIN:STANDARD
DTSTART:20231020T150000
TZOFFSETFROM:-0400
TZOFFSETTO:-0400
TZNAME:AST
END:STANDARD
END:VTIMEZONE
END:VCALENDAR