BEGIN:VCALENDAR
VERSION:2.0
PRODID:-//wp-events-plugin.com//7.2.3.1//EN
TZID:Europe/Paris
X-WR-TIMEZONE:Europe/Paris
BEGIN:VEVENT
UID:50@ville-petitbourg.fr
DTSTART;TZID=America/Guadeloupe;VALUE=DATE:20240502
DTEND;TZID=America/Guadeloupe;VALUE=DATE:20240509
DTSTAMP:20240503T181333Z
URL:https://www.ville-petitbourg.fr/events/hommage-a-nos-combattants/
SUMMARY:Hommage à nos combattants
DESCRIPTION:Du 2 au 8 Mai 2024		\n			Histoire		\n		Initiée par la Ville de
  Petit-Bourg\, à la mémoire de nos combattants\, un hommage leur est fai
 t chaque année. Cette année\, la Ville de Petit-Bourg vous donne rendez
 -vous :  A partir du 2 mai\, pour des expositions et des animations à l
 a bibliothèque du Bourg. (Les décorations militaires et civiles françai
 ses en partenariat avec les Anciens Combattants)  le mardi 7 mai à 18h30
 \, à la salle des délibérations de la Mairie\, pour une conférence-dé
 bat. (Animée par Maryse BERTIN et la participation de la Fédération des
  Anciens Combattants)  Le 8 mai\, à 9h30\, pour la cérémonie commémor
 ative du 8 mai 1945. Défilé et dépôt de gerbes au monument aux Morts (
 départ à la Mairie).   		\n																										\n			INFOS PRATI
 QUES		\n			\n									Tous les événements\n					\n		Du 2 au 8 mai 2024A 
 Petit-Bourg.MairieTél : 0590 95 38 00		\n			
ATTACH;FMTTYPE=image/jpeg:https://www.ville-petitbourg.fr/wp-content/uploa
 ds/2024/05/Capture.png
CATEGORIES:Histoire
END:VEVENT
BEGIN:VTIMEZONE
TZID:America/Guadeloupe
X-LIC-LOCATION:America/Guadeloupe
BEGIN:STANDARD
DTSTART:20230503T000000
TZOFFSETFROM:-0400
TZOFFSETTO:-0400
TZNAME:AST
END:STANDARD
END:VTIMEZONE
END:VCALENDAR