BEGIN:VCALENDAR
VERSION:2.0
PRODID:-//wp-events-plugin.com//7.2.3.1//EN
TZID:Europe/Paris
X-WR-TIMEZONE:Europe/Paris
BEGIN:VEVENT
UID:83@ville-petitbourg.fr
DTSTART;TZID=America/Guadeloupe:20240920T160000
DTEND;TZID=America/Guadeloupe:20240920T160000
DTSTAMP:20240910T171919Z
URL:https://www.ville-petitbourg.fr/events/grand-rallye-du-patrimoine-fin-
 des-inscriptions/
SUMMARY:Grand Rallye du Patrimoine : Fin des Inscriptions
DESCRIPTION:Vendredi 20 septembre - à 16 h		\n			LOISIRS		\n		Le service A
 rchives\, organise le dimanche 22 septembre 2024 un rallye du patrimoine d
 ans les différents quartiers de la ville.Inscription gratuite et ouverte 
 jusqu’au : vendredi 20 septembre 2024\,à 16h00\,auprès du service des 
 archives au 0590 69 67 80 ou 0690 33 90 80 ou à l’adresse mail suivante
  : service.archives@ville-petitbourg.fr. L’inscription n’est valide q
 u’après réception de la fiche d’inscription complétée et pour les 
 mineurs avec l’autorisation parentale jointe.		\n																							
 			\n			INFOS PRATIQUES		\n			\n									Tous les événements\n					\n		
 Évènement réalisé dans le cadre des journées européennes du patrimoi
 ne.Pour en savoir plus :CLIQUEZ ICI		\n			
ATTACH;FMTTYPE=image/jpeg:https://www.ville-petitbourg.fr/wp-content/uploa
 ds/2024/09/Capture-decran-2024-09-10-a-12.38.41.png
CATEGORIES:Histoire,Loisir
END:VEVENT
BEGIN:VTIMEZONE
TZID:America/Guadeloupe
X-LIC-LOCATION:America/Guadeloupe
BEGIN:STANDARD
DTSTART:20230921T160000
TZOFFSETFROM:-0400
TZOFFSETTO:-0400
TZNAME:AST
END:STANDARD
END:VTIMEZONE
END:VCALENDAR