BEGIN:VCALENDAR
VERSION:2.0
PRODID:-//wp-events-plugin.com//7.2.3.1//EN
TZID:Europe/Paris
X-WR-TIMEZONE:Europe/Paris
BEGIN:VEVENT
UID:134@ville-petitbourg.fr
DTSTART;TZID=America/Guadeloupe:20250322T080000
DTEND;TZID=America/Guadeloupe:20250322T180000
DTSTAMP:20250320T151229Z
URL:https://www.ville-petitbourg.fr/events/grand-prix-zeb-a-pik-karuline/
SUMMARY:Grand Prix Zèb A Pik Karuline
DESCRIPTION:Samedi - 8h à 18h\nSPORT\n9e édition du Grand Prix Zèb a Pik
  Karuline 📌 Le samedi 22 mars 2025 à 8h\, le départ de la deuxième 
 journée de la fameuse course cycliste aura lieu à Roujol. 🏁 Arrivée
  du 1er tronçon prévue à 12h 📍 Place Dominique LARIFLA. 🚦 Dépar
 t du 2e tronçon à 15h 📍 Grande Savane – 🏁 Arrivée prévue à 18
 h.\n\nINFOS PRATIQUES\n\nTous les événements\n\n
ATTACH;FMTTYPE=image/jpeg:https://www.ville-petitbourg.fr/wp-content/uploa
 ds/2025/03/Capture-decran-2025-03-20-a-10.58.09.png
CATEGORIES:Sport
END:VEVENT
BEGIN:VTIMEZONE
TZID:America/Guadeloupe
X-LIC-LOCATION:America/Guadeloupe
BEGIN:STANDARD
DTSTART:20240322T080000
TZOFFSETFROM:-0400
TZOFFSETTO:-0400
TZNAME:AST
END:STANDARD
END:VTIMEZONE
END:VCALENDAR