BEGIN:VCALENDAR
VERSION:2.0
PRODID:-//wp-events-plugin.com//7.2.3.1//EN
TZID:Europe/Paris
X-WR-TIMEZONE:Europe/Paris
BEGIN:VEVENT
UID:112@ville-petitbourg.fr
DTSTART;TZID=America/Guadeloupe:20250104T180000
DTEND;TZID=America/Guadeloupe:20250104T220000
DTSTAMP:20250103T155028Z
URL:https://www.ville-petitbourg.fr/events/finissage-exposition-dalice-ann
 e-augustin/
SUMMARY:Finissage : Exposition d'Alice-Anne AUGUSTIN
DESCRIPTION:Samedi 4 janvier 2025 - 18h - 22h				\n					ART				\n		Depuis p
 lusieurs semaines\, l’exposition d'Alice-Anne AUGUSTIN\, figure de talen
 t et créativité\, embellit les murs de l'Espace Culturel et Multimédia 
 de la Lézarde. Pour clôturer cette belle aventure artistique\, le Maire
  de la Ville de Petit-Bourg\, David NEBOR et l'association Corpo Art' L'Ar
 t d'Aider\, vous invitent à la soirée de finissage de cette exposition\,
  le samedi 4 janvier 2025\, à l'Espace Culturel et Multimédia de la Léz
 arde\, de 18h à 22h. L’occasion idéale d’échanger\, de redécouvri
 r les œuvres sous un nouvel angle\, et de partager un moment convivial au
 tour de l’art.Petit-Bourg\, terre d’art et de culture\, continue de me
 ttre en lumière nos talents.   Renseignements au 0690 37 23 36 ou 0690 
 23 71 72 		\n					INFOS PRATIQUES				\n					\n									Tous les événeme
 nts\n					\n		MairieTél : 0590 95 38 00		\n			
ATTACH;FMTTYPE=image/jpeg:https://www.ville-petitbourg.fr/wp-content/uploa
 ds/2025/01/Image-mise-en-avant-site-web-13.png
CATEGORIES:Art
END:VEVENT
BEGIN:VTIMEZONE
TZID:America/Guadeloupe
X-LIC-LOCATION:America/Guadeloupe
BEGIN:STANDARD
DTSTART:20240105T180000
TZOFFSETFROM:-0400
TZOFFSETTO:-0400
TZNAME:AST
END:STANDARD
END:VTIMEZONE
END:VCALENDAR