BEGIN:VCALENDAR
VERSION:2.0
PRODID:-//wp-events-plugin.com//7.2.3.1//EN
TZID:Europe/Paris
X-WR-TIMEZONE:Europe/Paris
BEGIN:VEVENT
UID:64@ville-petitbourg.fr
DTSTART;TZID=America/Guadeloupe;VALUE=DATE:20240823
DTEND;TZID=America/Guadeloupe;VALUE=DATE:20240824
DTSTAMP:20240704T134006Z
URL:https://www.ville-petitbourg.fr/events/fin-des-pre-inscription-restaur
 ation-scolaire/
SUMMARY:Fin des pré-inscription restauration scolaire
DESCRIPTION:Vendredi 23 août - 07h30 à 12h30		\n			Actualité		\n		Fermet
 ure de la campagne de pré-inscription pour l’adhésion à la restaurati
 on scolaire 2024-2025.Accédez aux modalités d'inscription : CLIQUEZ-ICI	
 	\n			/*! elementor - v3.21.0 - 30-04-2024 */\n.elementor-widget-image{tex
 t-align:center}.elementor-widget-image a{display:inline-block}.elementor-w
 idget-image a img[src$=".svg"]{width:48px}.elementor-widget-image img{vert
 ical-align:middle\;display:inline-block}																							\n			INFOS 
 PRATIQUES		\n			\n									Tous les événements\n					\n		Restauration sc
 olaire0590 25 87 39Caisse des écoles BellevueRue Etienne PORTECOP97170 Pe
 tit-Bourgadresse mail : restauration.scolaire@ville-petitbourg.frhoraires 
 : lundi au vendredi – 7h30 à 12h30		\n			
ATTACH;FMTTYPE=image/jpeg:https://www.ville-petitbourg.fr/wp-content/uploa
 ds/2024/07/Image-mise-en-avant-site-web.png
END:VEVENT
BEGIN:VTIMEZONE
TZID:America/Guadeloupe
X-LIC-LOCATION:America/Guadeloupe
BEGIN:STANDARD
DTSTART:20230824T000000
TZOFFSETFROM:-0400
TZOFFSETTO:-0400
TZNAME:AST
END:STANDARD
END:VTIMEZONE
END:VCALENDAR