BEGIN:VCALENDAR
VERSION:2.0
PRODID:-//wp-events-plugin.com//7.2.3.1//EN
TZID:Europe/Paris
X-WR-TIMEZONE:Europe/Paris
BEGIN:VEVENT
UID:63@ville-petitbourg.fr
DTSTART;TZID=America/Guadeloupe;VALUE=DATE:20240714
DTEND;TZID=America/Guadeloupe;VALUE=DATE:20240715
DTSTAMP:20240703T171130Z
URL:https://www.ville-petitbourg.fr/events/fete-nationale/
SUMMARY:Fête nationale
DESCRIPTION:Dimanche 14 juillet - 8h30\nCEREMONIE\nMonsieur David NEBOR\, M
 aire de la Ville de Petit-Bourg\, le Conseil Municipal et l'Association de
 s Anciens Combattants et victimes de Guerre de Petit-Bourg/Goyave\, ont le
  plaisir de vous inviter au dépôt de gerbes qui se déroulera à l'occas
 ion de la Fête Nationale le Dimanche 14 juillet 2024\, à 8h30 au Monumen
 t aux morts\, rue Schoelcher à Petit-Bourg.\nINFOS PRATIQUES\n\nTous les 
 événements\n\n\n 	Service Protocole :\n\n0690 35 47 27\n\n
ATTACH;FMTTYPE=image/jpeg:https://www.ville-petitbourg.fr/wp-content/uploa
 ds/2024/07/13645209_1255903801094440_1353209682298355546_n.jpg
END:VEVENT
BEGIN:VTIMEZONE
TZID:America/Guadeloupe
X-LIC-LOCATION:America/Guadeloupe
BEGIN:STANDARD
DTSTART:20230715T000000
TZOFFSETFROM:-0400
TZOFFSETTO:-0400
TZNAME:AST
END:STANDARD
END:VTIMEZONE
END:VCALENDAR