BEGIN:VCALENDAR
VERSION:2.0
PRODID:-//wp-events-plugin.com//7.2.3.1//EN
TZID:Europe/Paris
X-WR-TIMEZONE:Europe/Paris
BEGIN:VEVENT
UID:154@ville-petitbourg.fr
DTSTART;TZID=America/Guadeloupe:20250621T190000
DTEND;TZID=America/Guadeloupe:20250621T220000
DTSTAMP:20250606T150247Z
URL:https://www.ville-petitbourg.fr/events/fete-de-la-musique/
SUMMARY:Fête de la Musique
DESCRIPTION:Samedi 21 juin 2025 - 19h				\n		Le Maire de la Ville de Petit-
 Bourg\, Monsieur David NEBOR\, vous invite à la Fête de la Musique\, le 
 samedi 21 juin\, sur la Place Dominique LARIFLA\, à partir de 19h. Au pr
 ogramme :Animation DJKaraoké\, concours de chant "Tibou Singer's Challeng
 e 2025"Artistes invités : Ti KRZ\, LBDV\, SANCHII\, Jean-Claude EMBOULÉ
  Inscription au "Tibou Singer's Challenge 2025" en contactant le 0690 92 
 43 06 ou sur place\, le jour j de 15h à 18h		\n																										
 				\n					INFOS PRATIQUES				\n					\n									Tous les événements\n			
 		\n		Mairie : 0590 95 38 00: contact@ville-petitbourg.fr		\n			
ATTACH;FMTTYPE=image/jpeg:https://www.ville-petitbourg.fr/wp-content/uploa
 ds/2025/06/Image-mise-en-avant-site-web-2.png
CATEGORIES:Loisir
END:VEVENT
BEGIN:VTIMEZONE
TZID:America/Guadeloupe
X-LIC-LOCATION:America/Guadeloupe
BEGIN:STANDARD
DTSTART:20240621T190000
TZOFFSETFROM:-0400
TZOFFSETTO:-0400
TZNAME:AST
END:STANDARD
END:VTIMEZONE
END:VCALENDAR