BEGIN:VCALENDAR
VERSION:2.0
PRODID:-//wp-events-plugin.com//7.2.3.1//EN
TZID:Europe/Paris
X-WR-TIMEZONE:Europe/Paris
BEGIN:VEVENT
UID:53@ville-petitbourg.fr
DTSTART;TZID=America/Guadeloupe:20240529T140000
DTEND;TZID=America/Guadeloupe:20240529T160000
DTSTAMP:20240517T151738Z
URL:https://www.ville-petitbourg.fr/events/fete-annuelle-en-lhonneur-des-m
 amans/
SUMMARY:Fête annuelle en l'honneur des mamans
DESCRIPTION:Mercredi 29 Mai - 14h		\n			festivité		\n		La Ville de Petit-B
 ourg\, célèbre les mamansA l’occasion de la Fête de Mères\, David NE
 BOR\, le Maire de la Ville de Petit-Bourg a le plaisir de vous invitez à 
 la fête annuelle organisée par le CCAS en l’honneur de nos chères mam
 ans de la commune: le Mercredi 29 Mai 2024\, à 14h\, au Palais des Spo
 rts Laura FLESSEL.Les inscriptions sont ouvertes jusqu'au 26 mai 2024 incl
 us.Accédez au formulaire d'inscription : CLIQUEZ-ICI✅ Conditions à rem
 plir : Être âgée de moins de 60 ans Avoir au moins 1 enfant Résider
  dans la commune		\n																										\n			INFOS PRATIQUES		\n			\
 n									Tous les événements\n					\n		 Pour plus d'infos contactez le
  CCAS :0590 95 36 06 ou 0590 69 64 99		\n			
ATTACH;FMTTYPE=image/jpeg:https://www.ville-petitbourg.fr/wp-content/uploa
 ds/2024/05/Image-mise-en-avant-site-web-1.png
CATEGORIES:Loisir
LOCATION:Palais des sports Laura FLESSEL\, Rue Victor Hugues\, Petit-Bourg\
 , Guadeloupe
GEO:16.198536;-61.590443
X-APPLE-STRUCTURED-LOCATION;VALUE=URI;X-ADDRESS=Rue Victor Hugues\, Petit-B
 ourg\, Guadeloupe;X-APPLE-RADIUS=100;X-TITLE=Palais des sports Laura FLESS
 EL:geo:16.198536,-61.590443
END:VEVENT
BEGIN:VTIMEZONE
TZID:America/Guadeloupe
X-LIC-LOCATION:America/Guadeloupe
BEGIN:STANDARD
DTSTART:20230530T140000
TZOFFSETFROM:-0400
TZOFFSETTO:-0400
TZNAME:AST
END:STANDARD
END:VTIMEZONE
END:VCALENDAR