BEGIN:VCALENDAR
VERSION:2.0
PRODID:-//wp-events-plugin.com//7.2.3.1//EN
TZID:Europe/Paris
X-WR-TIMEZONE:Europe/Paris
BEGIN:VEVENT
UID:152@ville-petitbourg.fr
DTSTART;TZID=America/Guadeloupe:20250528T143000
DTEND;TZID=America/Guadeloupe:20250528T193000
DTSTAMP:20250519T154550Z
URL:https://www.ville-petitbourg.fr/events/fete-annuelle-du-ccas-en-lhonne
 ur-des-mamans/
SUMMARY:Fête des mères
DESCRIPTION:Mercredi 28 mai 2025 - 14h30\n\nLa Ville de Petit-Bourg\, cél
 èbre les mamans \n\nA l’occasion de la Fête de Mères\, David NEBOR\, 
 le Maire de la Ville de Petit-Bourg a le plaisir de vous inviter à la fê
 te annuelle organisée par le CCAS en l’honneur de nos chères mamans de
  la commune :\n- le Mercredi 28 Mai 2025\,\n- à 14h30\, \n- au Palais des
  Sports Laura FLESSEL.\n\nLes inscriptions sont ouvertes jusqu'au 21 mai 2
 025 inclus. Les dossiers sont à déposer au CCAS.\n\nPièces à fournir :
  - Carte nationale d'identité - justificatif d'adresse - livret de famill
 e\n\nConditions à remplir :\n- Être âgée de moins de 60 ans\n- Avoir a
 u moins 1 enfant\n- Résider dans la commune\n\n Pour plus d'infos\, conta
 ctez le CCAS au 0590 69 64 99\n\n\nINFOS PRATIQUES\n\nTous les événement
 s\n\n\nMairie\n\n : 0590 95 38 00\n\n: contact@ville-petitbourg.fr\n\n
ATTACH;FMTTYPE=image/jpeg:https://www.ville-petitbourg.fr/wp-content/uploa
 ds/2025/05/Image-mise-en-avant-site-web-44.png
END:VEVENT
BEGIN:VTIMEZONE
TZID:America/Guadeloupe
X-LIC-LOCATION:America/Guadeloupe
BEGIN:STANDARD
DTSTART:20240528T143000
TZOFFSETFROM:-0400
TZOFFSETTO:-0400
TZNAME:AST
END:STANDARD
END:VTIMEZONE
END:VCALENDAR