BEGIN:VCALENDAR
VERSION:2.0
PRODID:-//wp-events-plugin.com//7.2.3.1//EN
TZID:Europe/Paris
X-WR-TIMEZONE:Europe/Paris
BEGIN:VEVENT
UID:175@ville-petitbourg.fr
DTSTART;TZID=America/Guadeloupe;VALUE=DATE:20251108
DTEND;TZID=America/Guadeloupe;VALUE=DATE:20251109
DTSTAMP:20251103T163218Z
URL:https://www.ville-petitbourg.fr/events/festival-fototras-2025/
SUMMARY:Festival Fototras 2025
DESCRIPTION:Samedi 8 novembre - 8h30 à 12h30				\n					LOISIR				\n		 Init
 iée par l’ONU\, la Journée internationale des Forêts est célébrée 
 chaque année le 21 mars pour valoriser la forêt\, l’arbre et le bois.
   Pour cette 2ème édition 2025\, la Ville de Petit-Bourg vous invite :-
   Le samedi 8 novembre 2025\,-  Dès 8h30\,-  À l'Espace Culturel et M
 ultimédia de la Lézarde  		\n																														\n					INFO
 S PRATIQUES				\n					\n									Tous les événements\n					\n		Le samedi
  8 novembre 2025Dès 18h\,À l'Espace Culturel et Multimédia de la Lézar
 de.MairieTél : 0590 95 38 00		\n			
ATTACH;FMTTYPE=image/jpeg:https://www.ville-petitbourg.fr/wp-content/uploa
 ds/2025/11/WhatsApp-Image-2025-10-31-at-10.55.05.jpeg
CATEGORIES:Art,Loisir
END:VEVENT
BEGIN:VTIMEZONE
TZID:America/Guadeloupe
X-LIC-LOCATION:America/Guadeloupe
BEGIN:STANDARD
DTSTART:20241108T000000
TZOFFSETFROM:-0400
TZOFFSETTO:-0400
TZNAME:AST
END:STANDARD
END:VTIMEZONE
END:VCALENDAR