BEGIN:VCALENDAR
VERSION:2.0
PRODID:-//wp-events-plugin.com//7.2.3.1//EN
TZID:Europe/Paris
X-WR-TIMEZONE:Europe/Paris
BEGIN:VEVENT
UID:147@ville-petitbourg.fr
DTSTART;TZID=America/Guadeloupe:20250413T093000
DTEND;TZID=America/Guadeloupe:20250413T173000
DTSTAMP:20250407T154923Z
URL:https://www.ville-petitbourg.fr/events/festival-du-jeu-video-en-famill
 e-jeux-de-societe-et-mangas/
SUMMARY:Festival du jeu vidéo en famille
DESCRIPTION:
ATTACH;FMTTYPE=image/jpeg:https://www.ville-petitbourg.fr/wp-content/uploa
 ds/2025/04/WhatsApp-Image-2025-03-31-at-14.19.10.jpeg
CATEGORIES:Loisir
END:VEVENT
BEGIN:VTIMEZONE
TZID:America/Guadeloupe
X-LIC-LOCATION:America/Guadeloupe
BEGIN:STANDARD
DTSTART:20240413T093000
TZOFFSETFROM:-0400
TZOFFSETTO:-0400
TZNAME:AST
END:STANDARD
END:VTIMEZONE
END:VCALENDAR