BEGIN:VCALENDAR
VERSION:2.0
PRODID:-//wp-events-plugin.com//7.2.3.1//EN
TZID:Europe/Paris
X-WR-TIMEZONE:Europe/Paris
BEGIN:VEVENT
UID:110@ville-petitbourg.fr
DTSTART;TZID=America/Guadeloupe;VALUE=DATE:20241224
DTEND;TZID=America/Guadeloupe;VALUE=DATE:20250101
DTSTAMP:20241226T132819Z
URL:https://www.ville-petitbourg.fr/events/fermeture-exceptionnelle-des-se
 rvices-municipaux-le-24-et-31-decembre-2024/
SUMMARY:Fermeture des services municipaux
DESCRIPTION:Le 24 décembre et 31 décembre 2024\nInformation importante\n 
 Le Maire de la Ville de Petit-Bourg\, David NEBOR vous informe de la ferme
 ture de l'ensemble des services municipaux le 24 et le 31 décembre 2024.
   La réouverture des services se fera le 26 décembre 2024 et le 2 janvi
 er aux horaires habituelles.\n\nINFOS PRATIQUES\n\nTous les événements\n
 \n\nMairie :\n\n: 0590 95 38 00\n\n: contact@ville-petitbourg.fr\n\n
ATTACH;FMTTYPE=image/jpeg:https://www.ville-petitbourg.fr/wp-content/uploa
 ds/2024/12/Image-mise-en-avant-site-web-11-1.png
END:VEVENT
BEGIN:VTIMEZONE
TZID:America/Guadeloupe
X-LIC-LOCATION:America/Guadeloupe
BEGIN:STANDARD
DTSTART:20231225T000000
TZOFFSETFROM:-0400
TZOFFSETTO:-0400
TZNAME:AST
END:STANDARD
END:VTIMEZONE
END:VCALENDAR