BEGIN:VCALENDAR
VERSION:2.0
PRODID:-//wp-events-plugin.com//7.2.3.1//EN
TZID:Europe/Paris
X-WR-TIMEZONE:Europe/Paris
BEGIN:VEVENT
UID:61@ville-petitbourg.fr
DTSTART;TZID=America/Guadeloupe:20240706T080000
DTEND;TZID=America/Guadeloupe:20240706T190000
DTSTAMP:20240703T125054Z
URL:https://www.ville-petitbourg.fr/events/elections-legislatives-2e-tour/
SUMMARY:Élections législatives 2nd tour
DESCRIPTION:
ATTACH;FMTTYPE=image/jpeg:https://www.ville-petitbourg.fr/wp-content/uploa
 ds/2024/07/1280871_875249722493185_4027538081294941224_n.jpg
CATEGORIES:Citoyenneté
END:VEVENT
BEGIN:VTIMEZONE
TZID:America/Guadeloupe
X-LIC-LOCATION:America/Guadeloupe
BEGIN:STANDARD
DTSTART:20230707T080000
TZOFFSETFROM:-0400
TZOFFSETTO:-0400
TZNAME:AST
END:STANDARD
END:VTIMEZONE
END:VCALENDAR