BEGIN:VCALENDAR
VERSION:2.0
PRODID:-//wp-events-plugin.com//7.2.3.1//EN
TZID:Europe/Paris
X-WR-TIMEZONE:Europe/Paris
BEGIN:VEVENT
UID:136@ville-petitbourg.fr
DTSTART;TZID=America/Guadeloupe:20250328T190000
DTEND;TZID=America/Guadeloupe:20250328T210000
DTSTAMP:20250325T150017Z
URL:https://www.ville-petitbourg.fr/events/doukou-a-lokans-misik-e-bel-paw
 ol/
SUMMARY:Doukou A Lokans : Misik é bèl pawòl
DESCRIPTION:
ATTACH;FMTTYPE=image/jpeg:https://www.ville-petitbourg.fr/wp-content/uploa
 ds/2025/03/WhatsApp-Image-2025-03-24-at-16.03.11.jpeg
CATEGORIES:Loisir
END:VEVENT
BEGIN:VTIMEZONE
TZID:America/Guadeloupe
X-LIC-LOCATION:America/Guadeloupe
BEGIN:STANDARD
DTSTART:20240328T190000
TZOFFSETFROM:-0400
TZOFFSETTO:-0400
TZNAME:AST
END:STANDARD
END:VTIMEZONE
END:VCALENDAR