BEGIN:VCALENDAR
VERSION:2.0
PRODID:-//wp-events-plugin.com//7.2.3.1//EN
TZID:Europe/Paris
X-WR-TIMEZONE:Europe/Paris
BEGIN:VEVENT
UID:126@ville-petitbourg.fr
DTSTART;TZID=America/Guadeloupe;VALUE=DATE:20250222
DTEND;TZID=America/Guadeloupe;VALUE=DATE:20250223
DTSTAMP:20250218T203752Z
URL:https://www.ville-petitbourg.fr/events/diagnostic-en-marchant/
SUMMARY:Diagnostic en marchant
DESCRIPTION:Samedi 22 février 2025\n\nLa Ville de Petit-Bourg travaille à
  la mise en sécurité des habitants face au risque de menace grave pour l
 a vie humaine dans les quartiers de Bovis et Bel-Air.\n\n📌 Dans ce cadr
 e\, et en partenariat avec l'Agence des 50 pas géométriques\, la Ville a
  engagé des études visant à aménager les espaces déjà libérés et/o
 u restant à libérer.\n\n👉 Vous êtes donc convié à un "diagnostic e
 n marchant"\, qui se tiendra :\n\n 	le samedi 22 février 2025\,\n 	à 10h
  dans le secteur Bovis\,\n 	et à 14h30 dans le secteur Bel-Air.\n\nVotre 
 participation est essentielle pour définir ensemble les futurs aménageme
 nts et améliorer le cadre de vie de ces quartiers.\n\nINFOS PRATIQUES\n\n
 Tous les événements\n\n\nMairie\n\n : 0590 95 38 00\n\n: contact@ville-
 petitbourg.fr\n\n
ATTACH;FMTTYPE=image/jpeg:https://www.ville-petitbourg.fr/wp-content/uploa
 ds/2025/02/Image-mise-en-avant-site-web-24.png
CATEGORIES:Citoyenneté
END:VEVENT
BEGIN:VTIMEZONE
TZID:America/Guadeloupe
X-LIC-LOCATION:America/Guadeloupe
BEGIN:STANDARD
DTSTART:20240223T000000
TZOFFSETFROM:-0400
TZOFFSETTO:-0400
TZNAME:AST
END:STANDARD
END:VTIMEZONE
END:VCALENDAR