BEGIN:VCALENDAR
VERSION:2.0
PRODID:-//wp-events-plugin.com//7.2.3.1//EN
TZID:Europe/Paris
X-WR-TIMEZONE:Europe/Paris
BEGIN:VEVENT
UID:74@ville-petitbourg.fr
DTSTART;TZID=America/Guadeloupe:20240829T090000
DTEND;TZID=America/Guadeloupe:20240829T090000
DTSTAMP:20240827T195718Z
URL:https://www.ville-petitbourg.fr/events/depart-de-la-6eme-etape-du-tour
 -cycliste/
SUMMARY:Départ de la 6ème étape du Tour Cycliste
DESCRIPTION:Jeudi 29 août - 9h00		\n			SPORTS		\n		Rendez-vous :Le jeudi 2
 9 août\,à 9H00sur la nouvelle place Dominique LARIFLApour le top départ
  de la 6ème étape de la compétition.Venez encourager les coureurs tout 
 au long de la compétition\, tous les passages du Tour sur Petit-Bourg son
 t répertoriés  Cliquez ici  		\n																										\n			INFOS P
 RATIQUES		\n			\n									Tous les événements\n					\n			
ATTACH;FMTTYPE=image/jpeg:https://www.ville-petitbourg.fr/wp-content/uploa
 ds/2024/08/Ville-de-depart1.png
CATEGORIES:Sport
END:VEVENT
BEGIN:VTIMEZONE
TZID:America/Guadeloupe
X-LIC-LOCATION:America/Guadeloupe
BEGIN:STANDARD
DTSTART:20230830T090000
TZOFFSETFROM:-0400
TZOFFSETTO:-0400
TZNAME:AST
END:STANDARD
END:VTIMEZONE
END:VCALENDAR