BEGIN:VCALENDAR
VERSION:2.0
PRODID:-//wp-events-plugin.com//7.2.3.1//EN
TZID:Europe/Paris
X-WR-TIMEZONE:Europe/Paris
BEGIN:VEVENT
UID:41@ville-petitbourg.fr
DTSTART;TZID=America/Guadeloupe:20240419T200000
DTEND;TZID=America/Guadeloupe:20240419T213000
DTSTAMP:20240418T152557Z
URL:https://www.ville-petitbourg.fr/events/demi-finale-aller-de-volley-bal
 l-arsenal-vs-usg/
SUMMARY:Demi-finale aller de volley-ball "Arsenal vs USG"
DESCRIPTION:Vendredi 19 avril - 20h 		\n			SPORT		\n		  Pour le match reto
 ur\, rendez-vous :-  Le vendredi 26 avril 2024\,-  Dès 20h\,-  Au pal
 ais des sport Laura Flessel 		\n																														\n			INFOS 
 PRATIQUES		\n			\n						Tous les événements\n					\n		Le vendredi 19 avr
 il 2024Dès 20h\,Au palais des sports Laura FLESSELMairieTél :0590 95 38 
 00		\n			
ATTACH;FMTTYPE=image/jpeg:https://www.ville-petitbourg.fr/wp-content/uploa
 ds/2024/04/WhatsApp-Image-2024-04-17-at-08.01.19-1.jpeg
CATEGORIES:Sport
END:VEVENT
BEGIN:VTIMEZONE
TZID:America/Guadeloupe
X-LIC-LOCATION:America/Guadeloupe
BEGIN:STANDARD
DTSTART:20230420T200000
TZOFFSETFROM:-0400
TZOFFSETTO:-0400
TZNAME:AST
END:STANDARD
END:VTIMEZONE
END:VCALENDAR