BEGIN:VCALENDAR
VERSION:2.0
PRODID:-//wp-events-plugin.com//7.2.3.1//EN
TZID:Europe/Paris
X-WR-TIMEZONE:Europe/Paris
BEGIN:VEVENT
UID:31@ville-petitbourg.fr
DTSTART;TZID=America/Guadeloupe;VALUE=DATE:20240421
DTEND;TZID=America/Guadeloupe;VALUE=DATE:20240422
DTSTAMP:20240403T172852Z
URL:https://www.ville-petitbourg.fr/events/defi-market/
SUMMARY:Défi Market
DESCRIPTION:Samedi 21 Avril		\n			Sport		\n Initiée par Carrefour Market e
 t Chrono Univers\, le Défi Market fait son retour pour une 9ème édition
 \, avec pour thème du bleu pour soutenir l'autisme.\n&nbsp\;\n Pour cette
  édition 2024&nbsp\;:\n-&nbsp\;&nbsp\;8h départ de la course\,\n-&nbsp\;
  Animation de 7h à 12h\,\n- Inscription 10e par personne\n&nbsp\;\n&nbsp\
 ;\n Renseignements au 0690 40 33 43.\n&nbsp\;\n																											
 			\n			INFOS PRATIQUES		\n			\n						Tous les événements\n					\n		Le v
 endredi 22 mars 2024Dès 18h\,A l’arboretum de Montebello Petit-Bourg.Ma
 irieTél :06 68 85 12 83		\n			
ATTACH;FMTTYPE=image/jpeg:https://www.ville-petitbourg.fr/wp-content/uploa
 ds/2024/04/434403075_1001180381659418_6005301379690780462_n.jpg
END:VEVENT
BEGIN:VTIMEZONE
TZID:America/Guadeloupe
X-LIC-LOCATION:America/Guadeloupe
BEGIN:STANDARD
DTSTART:20230422T000000
TZOFFSETFROM:-0400
TZOFFSETTO:-0400
TZNAME:AST
END:STANDARD
END:VTIMEZONE
END:VCALENDAR