BEGIN:VCALENDAR
VERSION:2.0
PRODID:-//wp-events-plugin.com//7.2.3.1//EN
TZID:Europe/Paris
X-WR-TIMEZONE:Europe/Paris
BEGIN:VEVENT
UID:75@ville-petitbourg.fr
DTSTART;TZID=America/Guadeloupe:20241005T190000
DTEND;TZID=America/Guadeloupe:20241005T220000
DTSTAMP:20240828T142621Z
URL:https://www.ville-petitbourg.fr/events/deambulation-artistique-memoire
 s-des-cases/
SUMMARY:Déambulation artistique "Mémoires de cases"
DESCRIPTION:Samedi 5 octobre - 19h00\nART - PATRIMOINE\nUne déambulation a
 rtistique à la nuit tombée dans les rues de Petit-Bourg… Rendez-vous 
 :\n\n 	le samedi 5 octobre\,\n 	dès 19H00\n 	Départ au Point de vue de M
 orne Bourg\n\n\nLe projet « mémoires de cases » se veut avant tout huma
 niste et rassembleur autour de grandes notions telles que la mémoire et l
 ’hommage.   Un projet artistique soutenu par la Direction des Affaire
 s Culturelles de Guadeloupe et la ville de Petit-Bourg\n\nEN SAVOIR PLUS\n
 Le projet consiste en la réalisation de portraits dont le processus de cr
 éation repose sur des investigations poussées m’ayant permis de retrou
 ver les familles ayant vécu dans certaines cases inhabitées de Petit-Bou
 rg. Et si ces portes closes et ces façades fatiguées pouvaient parler ? 
 Comment et par qui ces espaces étaient-ils autrefois habités ? En inter
 rogeant les mémoires\, en fouillant les généalogies et exploitant les a
 rchives des personnes rencontrées\, je me suis chargée d’histoires que
  jai ensuite restituées dans des œuvres mêlant numérique\, peinture et
  dessin. Les cases en sont devenues supports autant qu’écrins.\n
ATTACH;FMTTYPE=image/jpeg:https://www.ville-petitbourg.fr/wp-content/uploa
 ds/2024/08/457091286_10161479751962071_9060553211702291148_n-1.jpg
CATEGORIES:Art,Histoire
END:VEVENT
BEGIN:VTIMEZONE
TZID:America/Guadeloupe
X-LIC-LOCATION:America/Guadeloupe
BEGIN:STANDARD
DTSTART:20231006T190000
TZOFFSETFROM:-0400
TZOFFSETTO:-0400
TZNAME:AST
END:STANDARD
END:VTIMEZONE
END:VCALENDAR