BEGIN:VCALENDAR
VERSION:2.0
PRODID:-//wp-events-plugin.com//7.2.3.1//EN
TZID:Europe/Paris
X-WR-TIMEZONE:Europe/Paris
BEGIN:VEVENT
UID:127@ville-petitbourg.fr
DTSTART;TZID=America/Guadeloupe:20250222T090000
DTEND;TZID=America/Guadeloupe:20250222T170000
DTSTAMP:20250221T142038Z
URL:https://www.ville-petitbourg.fr/events/coupe-descrime-de-petit-bourg/
SUMMARY:Coupe d'escrime de Petit-Bourg
DESCRIPTION:
ATTACH;FMTTYPE=image/jpeg:https://www.ville-petitbourg.fr/wp-content/uploa
 ds/2025/02/WhatsApp-Image-2025-02-20-at-07.56.52.jpeg
CATEGORIES:Sport
END:VEVENT
BEGIN:VTIMEZONE
TZID:America/Guadeloupe
X-LIC-LOCATION:America/Guadeloupe
BEGIN:STANDARD
DTSTART:20240223T090000
TZOFFSETFROM:-0400
TZOFFSETTO:-0400
TZNAME:AST
END:STANDARD
END:VTIMEZONE
END:VCALENDAR