BEGIN:VCALENDAR
VERSION:2.0
PRODID:-//wp-events-plugin.com//7.2.3.1//EN
TZID:Europe/Paris
X-WR-TIMEZONE:Europe/Paris
BEGIN:VEVENT
UID:27@ville-petitbourg.fr
DTSTART;TZID=America/Guadeloupe:20240321T180000
DTEND;TZID=America/Guadeloupe:20240321T200000
DTSTAMP:20240320T103117Z
URL:https://www.ville-petitbourg.fr/events/conseil-municipal/
SUMMARY:Conseil Municipal
DESCRIPTION:Jeudi 21 mars à 18h00		\n			INSTITUTION		\n		Le Maire de la Vi
 lle de Petit-Bourg\, Monsieur David NEBOR\, informe ses administrés de la
  tenue de la prochaine réunion du Conseil Municipal:le jeudi 21 mars 2024
 \,à 18 h 00\,à la salle des délibérations de la Mairie.Consultez l’O
 RDRE DU JOUR du 21 mars 2024		\n																														\n			INFOS P
 RATIQUES		\n			\n						Tous les événements\n					\n		Le jeudi 21 mars 20
 24Dès 18h\,Mairie de Petit-Bourg.MairieTél : 06 68 85 12 83		\n			
ATTACH;FMTTYPE=image/jpeg:https://www.ville-petitbourg.fr/wp-content/uploa
 ds/2024/03/Visuel-Conseil-Municipal.png
END:VEVENT
BEGIN:VTIMEZONE
TZID:America/Guadeloupe
X-LIC-LOCATION:America/Guadeloupe
BEGIN:STANDARD
DTSTART:20230322T180000
TZOFFSETFROM:-0400
TZOFFSETTO:-0400
TZNAME:AST
END:STANDARD
END:VTIMEZONE
END:VCALENDAR