BEGIN:VCALENDAR
VERSION:2.0
PRODID:-//wp-events-plugin.com//7.2.3.1//EN
TZID:Europe/Paris
X-WR-TIMEZONE:Europe/Paris
BEGIN:VEVENT
UID:32@ville-petitbourg.fr
DTSTART;TZID=America/Guadeloupe:20240411T180000
DTEND;TZID=America/Guadeloupe:20240411T203000
DTSTAMP:20240409T135125Z
URL:https://www.ville-petitbourg.fr/events/conseil-municipal-du-jeudi-11-a
 vril-2024/
SUMMARY:Conseil Municipal du jeudi 11 avril 2024
DESCRIPTION:Le Maire de la Ville de Petit-Bourg\, Monsieur David NEBOR\, in
 forme ses administrés de la tenue de la prochaine réunion du Conseil Mun
 icipal:\n-  le jeudi 11 avril 2024\,\n-  à 18 h 00\,\n-  à la salle d
 es délibérations de la Mairie\n\n\n\nOrdre du jour \n1. Adoption PV du 2
 1 Mars 2024\n2. Vote de la fiscalité locale directe\n3. Vote du Budget Pr
 imitif 2024\n4. Participation de la ville dans le cadre de la 8ème éditi
 on du Grand Prix Cycliste organisé par l’association ZEB A PIK 971 du 2
 2 au 24 mars 2024\n5. Participation de la Ville à une Course Relais « O 
 MIL DEFI » le 7 avril 2024\n6. Participation de la ville à l’organisat
 ion de la matinée d’animation intitulé « A PETIT-BOURG LA NATURE NOTR
 E PLUS BEAU TERRAIN DE JEU » qui aura lieu le 28 avril 2024\n7. Rapport 2
 023 sur la situation en matière égalité Femmes-Hommes dans la collectiv
 ité\n8. Adhésion aux accords-cadres du Réseau des Acheteurs Hospitalier
  (RESAH) pour les services de télécommunication\, infrastructure informa
 tique et cybersécurité\n\n
ATTACH;FMTTYPE=image/jpeg:https://www.ville-petitbourg.fr/wp-content/uploa
 ds/2024/04/Visuel-Conseil-Municipal.png
END:VEVENT
BEGIN:VTIMEZONE
TZID:America/Guadeloupe
X-LIC-LOCATION:America/Guadeloupe
BEGIN:STANDARD
DTSTART:20230412T180000
TZOFFSETFROM:-0400
TZOFFSETTO:-0400
TZNAME:AST
END:STANDARD
END:VTIMEZONE
END:VCALENDAR