BEGIN:VCALENDAR
VERSION:2.0
PRODID:-//wp-events-plugin.com//7.2.3.1//EN
TZID:Europe/Paris
X-WR-TIMEZONE:Europe/Paris
BEGIN:VEVENT
UID:72@ville-petitbourg.fr
DTSTART;TZID=America/Guadeloupe:20240809T180000
DTEND;TZID=America/Guadeloupe:20240809T213000
DTSTAMP:20240807T140414Z
URL:https://www.ville-petitbourg.fr/events/conseil-municipal-du-9-aout-202
 4/
SUMMARY:Conseil Municipal
DESCRIPTION:/*! elementor - v3.21.0 - 30-04-2024 */.elementor-heading-title
 {padding:0\;margin:0\;line-height:1}.elementor-widget-heading .elementor-h
 eading-title[class*=elementor-size-]>a{color:inherit\;font-size:inherit\;l
 ine-height:inherit}.elementor-widget-heading .elementor-heading-title.elem
 entor-size-small{font-size:15px}.elementor-widget-heading .elementor-headi
 ng-title.elementor-size-medium{font-size:19px}.elementor-widget-heading .e
 lementor-heading-title.elementor-size-large{font-size:29px}.elementor-widg
 et-heading .elementor-heading-title.elementor-size-xl{font-size:39px}.elem
 entor-widget-heading .elementor-heading-title.elementor-size-xxl{font-size
 :59px}\n\nVendredi 9 août 2024 - 18h\nLe Maire de la Ville de Petit-Bourg
 \, Monsieur David NEBOR\, informe ses administrés de la tenue de la proch
 aine réunion du Conseil Municipal:  -  Le vendredi 9 août 2024\,-  D
 ès 18h\,-  A la salle des délibérations de la Mairie. À l'ordre du j
 our : 1. Adoption PV du jeudi 18 juillet 20242. Fixation et attribution d
 es prix aux lauréats des concours et défraiements aux\nartistes amateurs
  dans le cadre de la fête patronale qui se déroulera du 9 au\n16 août 2
 0243. Autorisation donnée au Maire de signer l’Autorisation d’Occupat
 ion\nTemporaire de la ZTP4. Dénomination de la place publique de la ville
  de Petit-Bourg.  Consultez la version numérique :\n\nCliquez ici\n\n\n
 /*! elementor - v3.21.0 - 30-04-2024 */.elementor-widget-image{text-align:
 center}.elementor-widget-image a{display:inline-block}.elementor-widget-im
 age a img[src$=".svg"]{width:48px}.elementor-widget-image img{vertical-ali
 gn:middle\;display:inline-block}\n\n\nINFOS PRATIQUES\n\nTous les événem
 ents\n\n\n 	contact.ville@ville-petitbourg.fr\n\nMairie\nTél : 0590 95 38
  00\n\n/*! elementor - v3.21.0 - 30-04-2024 */.elementor-widget-google_map
 s .elementor-widget-container{overflow:hidden}.elementor-widget-google_map
 s .elementor-custom-embed{line-height:0}.elementor-widget-google_maps ifra
 me{height:300px}\n\n
ATTACH;FMTTYPE=image/jpeg:https://www.ville-petitbourg.fr/wp-content/uploa
 ds/2024/08/Image-mise-en-avant-site-web.png
CATEGORIES:Citoyenneté
END:VEVENT
BEGIN:VTIMEZONE
TZID:America/Guadeloupe
X-LIC-LOCATION:America/Guadeloupe
BEGIN:STANDARD
DTSTART:20230810T180000
TZOFFSETFROM:-0400
TZOFFSETTO:-0400
TZNAME:AST
END:STANDARD
END:VTIMEZONE
END:VCALENDAR