BEGIN:VCALENDAR
VERSION:2.0
PRODID:-//wp-events-plugin.com//7.2.3.1//EN
TZID:Europe/Paris
X-WR-TIMEZONE:Europe/Paris
BEGIN:VEVENT
UID:193@ville-petitbourg.fr
DTSTART;TZID=America/Guadeloupe:20260305T083000
DTEND;TZID=America/Guadeloupe:20260305T120000
DTSTAMP:20260225T142321Z
URL:https://www.ville-petitbourg.fr/events/conseil-municipal-du-5-mars-202
 6/
SUMMARY:Conseil Municipal du 5 mars 2026
DESCRIPTION:Jeudi 5  mars 2026 - 8h30				\n		Le Maire de la Ville de Petit-
 Bourg\, Monsieur David NEBOR\, informe ses administrés de la tenue de la 
 prochaine réunion du Conseil Municipal:  -  Le jeudi 5 mars 2026\,-  
 Dès 8h30\,-  A la salle des délibérations de la Mairie. Consultez l'o
 rdre du jour :  		\n					\n									Cliquez ici\n					\n					INFOS PRATI
 QUES				\n					\n									Tous les événements\n					\n		Mairie : 0590 9
 5 38 00: contact@ville-petitbourg.fr		\n			
ATTACH;FMTTYPE=image/jpeg:https://www.ville-petitbourg.fr/wp-content/uploa
 ds/2026/02/Image-mise-en-avant-site-web-application-17.png
CATEGORIES:Citoyenneté
END:VEVENT
BEGIN:VTIMEZONE
TZID:America/Guadeloupe
X-LIC-LOCATION:America/Guadeloupe
BEGIN:STANDARD
DTSTART:20250305T083000
TZOFFSETFROM:-0400
TZOFFSETTO:-0400
TZNAME:AST
END:STANDARD
END:VTIMEZONE
END:VCALENDAR